BEGIN:VCALENDAR
VERSION:2.0
PRODID:-//BCI - ECPv6.9.0//NONSGML v1.0//EN
CALSCALE:GREGORIAN
METHOD:PUBLISH
X-WR-CALNAME:BCI
X-ORIGINAL-URL:https://bizclubindia.com
X-WR-CALDESC:Events for BCI
REFRESH-INTERVAL;VALUE=DURATION:PT1H
X-Robots-Tag:noindex
X-PUBLISHED-TTL:PT1H
BEGIN:VTIMEZONE
TZID:Asia/Kolkata
BEGIN:STANDARD
TZOFFSETFROM:+0530
TZOFFSETTO:+0530
TZNAME:IST
DTSTART:20250101T000000
END:STANDARD
END:VTIMEZONE
BEGIN:VEVENT
DTSTART;TZID=Asia/Kolkata:20250329T140000
DTEND;TZID=Asia/Kolkata:20250329T160000
DTSTAMP:20260422T002252
CREATED:20250325T071327Z
LAST-MODIFIED:20250325T074956Z
UID:5060-1743256800-1743264000@bizclubindia.com
SUMMARY:Master the Art of Hiring & Firing – Join Our FREE Workshop!
DESCRIPTION:BCI ઓર્ગેનાઈઝેશન તમારા માટે લઈને આવી રહ્યું છે કોર્પોરેટ જગતની સૌથી મોટી સમસ્યાનો ઉકેલ એટલે કે Employee Hiring Solutions …..\nજેની ટ્રેનીંગ આપશે તમને પ્રખ્યાત ઓથર અને અનુભવી બીઝનેસ કન્સલ્ટન્ટ એવા Mr. Rahul Revne Sir … જ્યાં તમને જાણવા મળશે કે સ્ટાફ ક્યાંથી શોધવો ???….સ્ટાફને ટ્રેનીંગ કેમ આપવી ??….ઈન્ટરવ્યું કેવી લેવું ???….કામની સોંપણી કેવી રીતે કરવી ??? \nતો જો જો મિત્રો આવવાનું ચુકાઈ નહિ !!! આજે તમારું અને તમારા વિઝીટરનું રજીસ્ટ્રેશન કરાવો અને આ અમુલ્ય એવું ટ્રેનીંગનો લાભ મેળવો …. \nThis session is your chance to gain expert insights and practical strategies to build and manage a high-performing team. Whether you’re a business owner\, HR professional\, or aspiring leader\, this workshop is for you! \n🎟 FREE ENTRY – Limited Only 100 Seats available!
URL:https://bizclubindia.com/event/master-the-art-of-hiring-firing-join-our-free-workshop/
LOCATION:Pramukh Restaurant\, Pramukh Restaurant\, Laxmikant Vadlo\, Gajera School Road\, Nr. Laxmi Residency\, Katargam\, Surat\, Gujarat\, 395003\, India
CATEGORIES:Events
ATTACH;FMTTYPE=image/jpeg:https://bizclubindia.com/wp-content/uploads/2025/03/PHOTO-2025-03-25-13-19-27.jpg
ORGANIZER;CN="Bizclub of India":MAILTO:event@bizclubofindia.com
END:VEVENT
END:VCALENDAR